Workbook

Sheet Haftalık Çalışma Programı_
B2: Saat | E2: Pazartesi | F2: Salı | G2: Çarşamba | H2: Perşembe | I2: Cuma | J2: Cumartesi | K2: Pazar
B3: 0.41666667 | C3: - | D3: 0.45833333 | E3: Matematik - 40 soru Fizik - 50 soru
B4: 0.45833333 | C4: - | D4: 0.5
B5: 0.5 | C5: - | D5: 0.54166667
B6: 0.54166667 | C6: - | D6: 0.58333333
B7: 0.58333333 | C7: - | D7: 0.625
B8: 0.625 | C8: - | D8: 0.66666667
B9: 0.66666667 | C9: - | D9: 0.70833333
B10: 0.70833333 | C10: - | D10: 0.75
B11: 0.75 | C11: - | D11: 0.79166667
B12: 0.79166667 | C12: - | D12: 0.83333333
B13: 0.83333333 | C13: - | D13: 0.875
B14: 0.875 | C14: - | D14: 0.91666667
B15: 0.91666667 | C15: - | D15: 0.95833333

Sheet Anaveri
B2: No | C2: Ad Soyad | D2: Bölüm | E2: Doğum Tarihi | G2: Net Maaş | H2: AGİ | I2: Toplam Maaş
B3: 1985 | C3: Dilek Gürcü | D3: İnsan Kaynakları | E3: 25417 | F3: =(TODAY()-E3)/365 -> 56.345205 | G3: =VLOOKUP($B3,Maaş!$B:$E,3,0) -> 6294 | H3: =VLOOKUP($B3,Maaş!$B:$E,4,0) -> 362.22 | I3: =H3+G3 -> 6656.22
B4: 1960 | C4: Ece Görkem | D4: İnsan Kaynakları | E4: 20908 | F4: =(TODAY()-E4)/365 -> 68.69863 | G4: =VLOOKUP($B4,Maaş!$B:$E,3,0) -> 4159 | H4: =VLOOKUP($B4,Maaş!$B:$E,4,0) -> 268.31 | I4: =H4+G4 -> 4427.31 | K4: DÜŞEYARA KOMUTU İLE BAŞKA BİR SAYFADAN VEYA FARKLI EXCEL DOSYASINDAN VERİ AKTARMA
B5: 1608 | C5: Emine Oruc | D5: Satış Mühendisi | E5: 18350 | F5: =(TODAY()-E5)/365 -> 75.706849 | G5: =VLOOKUP($B5,Maaş!$B:$E,3,0) -> 9122 | H5: =VLOOKUP($B5,Maaş!$B:$E,4,0) -> 268.31 | I5: =H5+G5 -> 9390.31
B6: 1787 | C6: Engin Uzuner | D6: Satış Mühendisi | E6: 35125 | F6: =(TODAY()-E6)/365 -> 29.747945 | G6: =VLOOKUP($B6,Maaş!$B:$E,3,0) -> 7263 | H6: =VLOOKUP($B6,Maaş!$B:$E,4,0) -> 456.13 | I6: =H6+G6 -> 7719.13
B7: 1031 | C7: Utku Güleç | D7: Üretim-Planlama | E7: 21871 | F7: =(TODAY()-E7)/365 -> 66.060274 | G7: =VLOOKUP($B7,Maaş!$B:$E,3,0) -> 5280 | H7: =VLOOKUP($B7,Maaş!$B:$E,4,0) -> 321.98 | I7: =H7+G7 -> 5601.98
B8: 1056 | C8: Fazlı Kolçak | D8: Satış Mühendisi | E8: 32437 | F8: =(TODAY()-E8)/365 -> 37.112329 | G8: =VLOOKUP($B8,Maaş!$B:$E,3,0) -> 8931 | H8: =VLOOKUP($B8,Maaş!$B:$E,4,0) -> 456.13 | I8: =H8+G8 -> 9387.13
B9: 1669 | C9: Esra Karadeniz | D9: Üretim | E9: 24296 | F9: =(TODAY()-E9)/365 -> 59.416438 | G9: =VLOOKUP($B9,Maaş!$B:$E,3,0) -> 6985 | H9: =VLOOKUP($B9,Maaş!$B:$E,4,0) -> 268.31 | I9: =H9+G9 -> 7253.31
B10: 1640 | C10: Cengiz Aldırmaz | D10: İnsan Kaynakları | E10: 35805 | F10: =(TODAY()-E10)/365 -> 27.884932 | G10: =VLOOKUP($B10,Maaş!$B:$E,3,0) -> 8934 | H10: =VLOOKUP($B10,Maaş!$B:$E,4,0) -> 456.13 | I10: =H10+G10 -> 9390.13
B11: 1327 | C11: Esin Ozkan | D11: Raporlama | E11: 22439 | F11: =(TODAY()-E11)/365 -> 64.50411 | G11: =VLOOKUP($B11,Maaş!$B:$E,3,0) -> 8085 | H11: =VLOOKUP($B11,Maaş!$B:$E,4,0) -> 308.56 | I11: =H11+G11 -> 8393.56
B12: 1615 | C12: Mesut Tiran | D12: Raporlama | E12: 19236 | F12: =(TODAY()-E12)/365 -> 73.279452 | G12: =VLOOKUP($B12,Maaş!$B:$E,3,0) -> 8795 | H12: =VLOOKUP($B12,Maaş!$B:$E,4,0) -> 321.98 | I12: =H12+G12 -> 9116.98
B13: 1774 | C13: Çağla Büyükdoğu | D13: Üretim-Planlama | E13: 32192 | F13: =(TODAY()-E13)/365 -> 37.783562 | G13: =VLOOKUP($B13,Maaş!$B:$E,3,0) -> 7947 | H13: =VLOOKUP($B13,Maaş!$B:$E,4,0) -> 402.47 | I13: =H13+G13 -> 8349.47
B14: 1837 | C14: Onur Çelik | D14: Raporlama | E14: 25502 | F14: =(TODAY()-E14)/365 -> 56.112329 | G14: =VLOOKUP($B14,Maaş!$B:$E,3,0) -> 5879 | H14: =VLOOKUP($B14,Maaş!$B:$E,4,0) -> 348.81 | I14: =H14+G14 -> 6227.81
B15: 1970 | C15: Irem Çatıkkaş | D15: Satış Mühendisi | E15: 30369 | F15: =(TODAY()-E15)/365 -> 42.778082 | G15: =VLOOKUP($B15,Maaş!$B:$E,3,0) -> 4581 | H15: =VLOOKUP($B15,Maaş!$B:$E,4,0) -> 348.81 | I15: =H15+G15 -> 4929.81
B16: 1135 | C16: Mehmet Ali | D16: Satış Mühendisi | E16: 32696 | F16: =(TODAY()-E16)/365 -> 36.40274 | G16: =VLOOKUP($B16,Maaş!$B:$E,3,0) -> 5316 | H16: =VLOOKUP($B16,Maaş!$B:$E,4,0) -> 268.31 | I16: =H16+G16 -> 5584.31
... B65: 1854 | C65: Mustafa Akgül | D65: Üretim-Planlama | E65: 26940 | F65: =(TODAY()-E65)/365 -> 52.172603 | G65: =VLOOKUP($B65,Maaş!$B:$E,3,0) -> 8782 | H65: =VLOOKUP($B65,Maaş!$B:$E,4,0) -> 321.98 | I65: =H65+G65 -> 9103.98

Sheet Maaş
B2: No | C2: Ad Soyad | D2: Net Maaş | E2: AGİ
B3: 1774 | C3: Abdülkerim Şiranlı | D3: 7947 | E3: 402.47
B4: 1572 | C4: Ali Sağır | D4: 8220 | E4: 268.31
B5: 1052 | C5: Ali Yeşildağ | D5: 7941 | E5: 402.47
B6: 1793 | C6: Aslı Şimşir | D6: 9515 | E6: 456.13
B7: 1471 | C7: Ayfer Aytül | D7: 4527 | E7: 308.56
B8: 1999 | C8: Aysun Fatih | D8: 5919 | E8: 456.13
B9: 1331 | C9: Aziza Vural | D9: 7220 | E9: 268.31
B10: 1887 | C10: Begum Kartal | D10: 4235 | E10: 362.22
B11: 1917 | C11: Cemile Diren | D11: 9353 | E11: 456.13
B12: 1640 | C12: Cengiz Aldırmaz | D12: 8934 | E12: 456.13
B13: 1774 | C13: Çağla Büyükdoğu | D13: 6305 | E13: 456.13
B14: 1985 | C14: Dilek Gürcü | D14: 6294 | E14: 362.22
... B65: 1910 | C65: Volkan Öztürk | D65: 6761 | E65: 456.13
